BEGIN:VCALENDAR
VERSION:2.0
PRODID:-//eventon.com NONSGML v1.0//EN
CALSCALE:GREGORIAN
METHOD:PUBLISH
BEGIN:VEVENT
UID:69e4cbee6ec1b
DTSTAMP:20260419T123454Z
DTSTART:20240401T140000Z
DTEND:20240401T180000Z
LOCATION:Espace Jean Vilar
SUMMARY:Loto de Pâques
DESCRIPTION:1er avril 2024 par le don du sang dès 14h à l&rsquo;espace Je
 an Vilar\nhttps://www.ville-coudekerque-branche.fr/events/loto-de-paques/
URL:https://www.ville-coudekerque-branche.fr/events/loto-de-paques/
END:VEVENT
END:VCALENDAR