BEGIN:VCALENDAR
VERSION:2.0
PRODID:-//eventon.com NONSGML v1.0//EN
CALSCALE:GREGORIAN
METHOD:PUBLISH
BEGIN:VEVENT
UID:69e88c432a3ad
DTSTAMP:20260422T085219Z
DTSTART:20240417T170000Z
DTEND:20240417T180000Z
LOCATION:Centre social Josette Bulté Rue du Général Hoche
SUMMARY:Permanence de Patricia Lescieux
DESCRIPTION:\nhttps://www.ville-coudekerque-branche.fr/events/permanence-de
 -patricia-lescieux-17/
URL:https://www.ville-coudekerque-branche.fr/events/permanence-de-patricia-lescieux-17/
END:VEVENT
END:VCALENDAR