BEGIN:VCALENDAR
VERSION:2.0
PRODID:-//eventon.com NONSGML v1.0//EN
CALSCALE:GREGORIAN
METHOD:PUBLISH
BEGIN:VEVENT
UID:69e730b1ef477
DTSTAMP:20260421T080921Z
DTSTART:20240413
DTEND:20240414
LOCATION:HÃ´tel de ville
SUMMARY:Exposition de FranÃ§oise Aernouts
DESCRIPTION:Du 13 au 20 avril\,  venez dÃ©couvrir les peintures de FranÃ§oi
 se Aernouts\,  Ã  la salle du conseil municipal de lâ€™HÃ´tel de ville. Fra
 nÃ§oise a toujours Ã©tÃ© passionnÃ©e par les arts (coloriage\,  dessin\,  p
 eintureâ€¦). Autodidacte\,  elle a appris Ã  peindre chez elle\,  avant dâ€
 ™entreprendre des cours aux Beaux-Arts de Dunkerque et[..]\nhttps://www.vil
 le-coudekerque-branche.fr/events/exposition-de-francoise-aernouts/
URL:https://www.ville-coudekerque-branche.fr/events/exposition-de-francoise-aernouts/
END:VEVENT
END:VCALENDAR