BEGIN:VCALENDAR
VERSION:2.0
PRODID:-//eventon.com NONSGML v1.0//EN
CALSCALE:GREGORIAN
METHOD:PUBLISH
BEGIN:VEVENT
UID:69e5fbd755f11
DTSTAMP:20260420T101135Z
DTSTART:20240404T100000Z
DTEND:20240404T102000Z
LOCATION:Centre social Josette Bulté Rue du Général Hoche
SUMMARY:Le moment des ptits Pilous (pour les tout-petits)
DESCRIPTION:Jeudi 4 avril de 10h à 10h20 Bibliothèque les Mûriers &#8211
 ; Centre social Josette Bulté (Réservation gratuite au 03 28 63 10 40)\nh
 ttps://www.ville-coudekerque-branche.fr/events/le-moment-des-ptits-pilous-p
 our-les-tout-petits-10/
URL:https://www.ville-coudekerque-branche.fr/events/le-moment-des-ptits-pilous-pour-les-tout-petits-10/
END:VEVENT
END:VCALENDAR