BEGIN:VCALENDAR
VERSION:2.0
PRODID:-//eventon.com NONSGML v1.0//EN
CALSCALE:GREGORIAN
METHOD:PUBLISH
BEGIN:VEVENT
UID:69e7ac906161b
DTSTAMP:20260421T165752Z
DTSTART:20240413T210000Z
DTEND:20240413T230000Z
LOCATION:Espace Jean Vilar
SUMMARY:Soirée antillaise "Zouk Merengue Party"
DESCRIPTION:organisée par Antilles DynamicSamedi 13 avril à 21hEspace Jea
 n VilarUniquement sur réservation\,  renseignements :03 28 20 18 90 / 06 6
 3 56 27 23\nhttps://www.ville-coudekerque-branche.fr/events/soiree-antillai
 se-zouk-merengue-party/
URL:https://www.ville-coudekerque-branche.fr/events/soiree-antillaise-zouk-merengue-party/
END:VEVENT
END:VCALENDAR