BEGIN:VCALENDAR
VERSION:2.0
PRODID:-//eventon.com NONSGML v1.0//EN
CALSCALE:GREGORIAN
METHOD:PUBLISH
BEGIN:VEVENT
UID:69e6110b6f2c6
DTSTAMP:20260420T114203Z
DTSTART:20240504T083000Z
DTEND:20240504T170000Z
LOCATION:Salle Delvallez Rue des Forts
SUMMARY:Bourse aux vélos
DESCRIPTION:Salle Delvallez rue des Forts à partir de 8h30\nhttps://www.vi
 lle-coudekerque-branche.fr/events/bourse-aux-velos/
URL:https://www.ville-coudekerque-branche.fr/events/bourse-aux-velos/
END:VEVENT
END:VCALENDAR