BEGIN:VCALENDAR
VERSION:2.0
PRODID:-//eventon.com NONSGML v1.0//EN
CALSCALE:GREGORIAN
METHOD:PUBLISH
BEGIN:VEVENT
UID:69e88c48c5ce0
DTSTAMP:20260422T085224Z
DTSTART:20240530T173000Z
DTEND:20240530T183000Z
LOCATION:Espace Roger Salengro rue Jules Guesde
SUMMARY:Permanence de Alain Cellier
DESCRIPTION:Jeudi 30 mai de 17h30 à 18h30Mairie de quartier Salengro\nhttp
 s://www.ville-coudekerque-branche.fr/events/permanence-de-alain-cellier-10/
URL:https://www.ville-coudekerque-branche.fr/events/permanence-de-alain-cellier-10/
END:VEVENT
END:VCALENDAR