BEGIN:VCALENDAR
VERSION:2.0
PRODID:-//eventon.com NONSGML v1.0//EN
CALSCALE:GREGORIAN
METHOD:PUBLISH
BEGIN:VEVENT
UID:69e733ccc0a4b
DTSTAMP:20260421T082236Z
DTSTART:20240714T093000Z
DTEND:20240714T133000Z
LOCATION:Espace Jean Vilar
SUMMARY:Venez dÃ©couvrir le modÃ©lisme ferroviaire
DESCRIPTION:ENTRÃ‰E GRATUITE. Lorsque le RMC59 s&rsquo;invite aux festivitÃ
 ©s du 14 juillet\,  cela se traduit par une manifestation de modÃ©lisme fer
 roviaire\,  prÃ©sentant une activitÃ© dÃ©diÃ©e Ã  la jeunesse\,  grÃ¢ce Ã  
 la construction d&rsquo;un ensemble d&rsquo;Ã©lÃ©ments raccordables europÃ©
 ens. Pour la petite histoire\,  ces Ã©lÃ©ments seront construits le samedi 
 13 juillet. Venez dÃ©couvrir[..]\nhttps://www.ville-coudekerque-branche.fr/
 events/venez-decouvrir-le-modelisme-ferroviaire/
URL:https://www.ville-coudekerque-branche.fr/events/venez-decouvrir-le-modelisme-ferroviaire/
END:VEVENT
END:VCALENDAR