BEGIN:VCALENDAR
VERSION:2.0
PRODID:-//eventon.com NONSGML v1.0//EN
CALSCALE:GREGORIAN
METHOD:PUBLISH
BEGIN:VEVENT
UID:69e7335e1a372
DTSTAMP:20260421T082046Z
DTSTART:20240629T080000Z
DTEND:20240630T190000Z
LOCATION:
SUMMARY:Concours d’obéissance canine
DESCRIPTION:Samedi 29 et dimanche 30 juin de 8h à 19hTerrain d’agility\n
 https://www.ville-coudekerque-branche.fr/events/concours-dobeissance-canine
 -2/
URL:https://www.ville-coudekerque-branche.fr/events/concours-dobeissance-canine-2/
END:VEVENT
END:VCALENDAR