BEGIN:VCALENDAR
VERSION:2.0
PRODID:-//eventon.com NONSGML v1.0//EN
CALSCALE:GREGORIAN
METHOD:PUBLISH
BEGIN:VEVENT
UID:69e5fbfb1a460
DTSTAMP:20260420T101211Z
DTSTART:20240810
DTEND:20240811
LOCATION:Place André Delattre Place André Delattre
SUMMARY:Ducasse d’été
DESCRIPTION:Ducasse d’été : des jeux et animations pour toute la famill
 eLa ducasse reprend ses quartiers d’été sur la place André Delattre\, 
  du 10 au 21 août.\nhttps://www.ville-coudekerque-branche.fr/events/ducass
 e-dete-2/
URL:https://www.ville-coudekerque-branche.fr/events/ducasse-dete-2/
END:VEVENT
END:VCALENDAR