BEGIN:VCALENDAR
VERSION:2.0
PRODID:-//eventon.com NONSGML v1.0//EN
CALSCALE:GREGORIAN
METHOD:PUBLISH
BEGIN:VEVENT
UID:69e6137e91773
DTSTAMP:20260420T115230Z
DTSTART:20241013T160000Z
DTEND:20241013T180000Z
LOCATION:Espace Jean Vilar
SUMMARY:Amour\,  gloire et beugler
DESCRIPTION:la nouvelle piÃ¨ce d&rsquo;Emmanuel ValloyDimanche 13 octobre Ã
   16h &#8211; Espace Jean VilarRÃ©servations Ã  la billetterie de l&rsquo;e
 space Jean Vilar :Pour les Coudekerquois : du 28 septembre au 13 octobrePou
 r les extÃ©rieurs : du 5 au 13 octobreTarifs : Coudekerquois : 5 â‚¬ &#8211
 ; ExtÃ©rieurs : 10 â‚¬ Pour mieux[..]\nhttps://www.ville-coudekerque-branch
 e.fr/events/amour-gloire-et-beugler/
URL:https://www.ville-coudekerque-branche.fr/events/amour-gloire-et-beugler/
END:VEVENT
END:VCALENDAR