BEGIN:VCALENDAR
VERSION:2.0
PRODID:-//eventon.com NONSGML v1.0//EN
CALSCALE:GREGORIAN
METHOD:PUBLISH
BEGIN:VEVENT
UID:69e5fd5bdb294
DTSTAMP:20260420T101803Z
DTSTART:20241123T153000Z
DTEND:20241123T173000Z
LOCATION:Hôtel de ville
SUMMARY:Conférence de Jean-Michel Cohen
DESCRIPTION:Le médecin et nutritionniste français Jean-Michel Cohen tiend
 ra une conférence le samedi 23 novembre 2024 à 15h30 à l’hôtel de vil
 le. Cinq ans après une première conférence sur le thème de l’alimenta
 tion et de la santé par l’assiette\,  le célèbre médecin nutritionnis
 te revient dans notre ville. Le docteur Jean-Michel Cohen[..]\nhttps://www.
 ville-coudekerque-branche.fr/events/conference-de-jean-michel-cohen/
URL:https://www.ville-coudekerque-branche.fr/events/conference-de-jean-michel-cohen/
END:VEVENT
END:VCALENDAR