BEGIN:VCALENDAR
VERSION:2.0
PRODID:-//eventon.com NONSGML v1.0//EN
CALSCALE:GREGORIAN
METHOD:PUBLISH
BEGIN:VEVENT
UID:69e5fe1220cdf
DTSTAMP:20260420T102106Z
DTSTART:20241129
DTEND:20241130
LOCATION:
SUMMARY:Trouvez le ticket d’or
DESCRIPTION:Afin de correspondre à la thématique chocolatée de cette ann
 ée\,  inspirée par le spectacle Miss Wonka accueilli à l’espace Jean V
 ilar le 5 janvier 2025\,  la ville décline le ticket d’or en version CDK
 . La Ville a fait réaliser 2 000 plaques de chocolat aux couleurs coudeker
 quoises par des entreprises[..]\nhttps://www.ville-coudekerque-branche.fr/e
 vents/trouvez-le-ticket-dor/
URL:https://www.ville-coudekerque-branche.fr/events/trouvez-le-ticket-dor/
END:VEVENT
END:VCALENDAR