BEGIN:VCALENDAR
VERSION:2.0
PRODID:-//eventon.com NONSGML v1.0//EN
CALSCALE:GREGORIAN
METHOD:PUBLISH
BEGIN:VEVENT
UID:69e5fcfc76657
DTSTAMP:20260420T101628Z
DTSTART:20250103T141500Z
DTEND:20250103T170000Z
LOCATION:
SUMMARY:Galette des rois des pompiers et anciens pompiers
DESCRIPTION:Vendredi 3 janvier dès 14h1531 rue des Arts\nhttps://www.ville
 -coudekerque-branche.fr/events/galette-des-rois-des-pompiers-et-anciens-pom
 piers/
URL:https://www.ville-coudekerque-branche.fr/events/galette-des-rois-des-pompiers-et-anciens-pompiers/
END:VEVENT
END:VCALENDAR