BEGIN:VCALENDAR
VERSION:2.0
PRODID:-//eventon.com NONSGML v1.0//EN
CALSCALE:GREGORIAN
METHOD:PUBLISH
BEGIN:VEVENT
UID:69e61325ef321
DTSTAMP:20260420T115101Z
DTSTART:20250202T160000Z
DTEND:20250202T180000Z
LOCATION:Espace Jean Vilar
SUMMARY:Les Hypnotiseurs
DESCRIPTION:Dimanche 2 février &#8211; 16h &#8211; Espace Jean VilarSommes
 -nous tous réceptifs à l’hypnose ? Dormons-nous réellement sous hypnos
 e ? Les hypnotiseurs prennent-ils le contrôle de notre cerveau ? Vous déc
 ouvrirez tout ce qu’il est possible de faire grâce à l’hypnose dans u
 ne mise en scène mêlant pédagogie\,  humour\,  émotions et[..]\nhttps:/
 /www.ville-coudekerque-branche.fr/events/les-hypnotiseurs/
URL:https://www.ville-coudekerque-branche.fr/events/les-hypnotiseurs/
END:VEVENT
END:VCALENDAR