BEGIN:VCALENDAR
VERSION:2.0
PRODID:-//eventon.com NONSGML v1.0//EN
CALSCALE:GREGORIAN
METHOD:PUBLISH
BEGIN:VEVENT
UID:69e626bc16070
DTSTAMP:20260420T131436Z
DTSTART:20250205
DTEND:20250206
LOCATION:BibliothÃ¨que Verhaeren 26 rue Paul CÃ©zanne
SUMMARY:Heures du conte (Ã  partir de 3 ans)
DESCRIPTION:Mercredi 5 fÃ©vrier de 14h30 Ã  15h30 et de 16h Ã  17hBibliothÃ
 ¨que Verhaeren &#8211; 26 rue Paul CÃ©zanne\nhttps://www.ville-coudekerque-
 branche.fr/events/heures-du-conte-a-partir-de-3-ans-8/
URL:https://www.ville-coudekerque-branche.fr/events/heures-du-conte-a-partir-de-3-ans-8/
END:VEVENT
END:VCALENDAR