BEGIN:VCALENDAR
VERSION:2.0
PRODID:-//eventon.com NONSGML v1.0//EN
CALSCALE:GREGORIAN
METHOD:PUBLISH
BEGIN:VEVENT
UID:69e6167d46961
DTSTAMP:20260420T120517Z
DTSTART:20250206T100000Z
DTEND:20250206T103000Z
LOCATION:Bibliothèque des Mûriers Centre social Josette Bulté
SUMMARY:Le moment des ptits Pilous (pour les tout-petits)
DESCRIPTION:Jeudi 6 février de 10h à 10h30Bibliothèque les Mûriers &#82
 11; Centre social Josette Bulté(Réservation gratuite au 03 28 63 10 40)\n
 https://www.ville-coudekerque-branche.fr/events/le-moment-des-ptits-pilous-
 pour-les-tout-petits-14/
URL:https://www.ville-coudekerque-branche.fr/events/le-moment-des-ptits-pilous-pour-les-tout-petits-14/
END:VEVENT
END:VCALENDAR