BEGIN:VCALENDAR
VERSION:2.0
PRODID:-//eventon.com NONSGML v1.0//EN
CALSCALE:GREGORIAN
METHOD:PUBLISH
BEGIN:VEVENT
UID:69e612bd0f328
DTSTAMP:20260420T114917Z
DTSTART:20250301T180000Z
DTEND:20250301T220000Z
LOCATION:Espace Jean Vilar
SUMMARY:Loto par les Majorettes
DESCRIPTION:Loto par les Majorettes de Coudekerque-BrancheSamedi 1er mars Ã
   18h(ouverture des portes Ã  16h30)Espace Jean Vilar\nhttps://www.ville-co
 udekerque-branche.fr/events/loto-par-les-majorettes/
URL:https://www.ville-coudekerque-branche.fr/events/loto-par-les-majorettes/
END:VEVENT
END:VCALENDAR