BEGIN:VCALENDAR
VERSION:2.0
PRODID:-//eventon.com NONSGML v1.0//EN
CALSCALE:GREGORIAN
METHOD:PUBLISH
BEGIN:VEVENT
UID:69e61d4500fed
DTSTAMP:20260420T123413Z
DTSTART:20250319T170000Z
DTEND:20250319T180000Z
LOCATION:Centre social Josette Bulté Rue du Général Hoche
SUMMARY:Permanence de Patricia Lescieux
DESCRIPTION:PETIT STEENDAMPermanence de Patricia LescieuxMercredi 19 mars 2
 025 de 17h à 18hCentre Social Communal Josette Bulté\nhttps://www.ville-c
 oudekerque-branche.fr/events/permanence-de-patricia-lescieux-26/
URL:https://www.ville-coudekerque-branche.fr/events/permanence-de-patricia-lescieux-26/
END:VEVENT
END:VCALENDAR