BEGIN:VCALENDAR
VERSION:2.0
PRODID:-//eventon.com NONSGML v1.0//EN
CALSCALE:GREGORIAN
METHOD:PUBLISH
BEGIN:VEVENT
UID:69e5fd03b14bb
DTSTAMP:20260420T101635Z
DTSTART:20250312
DTEND:20250313
LOCATION:Bibliothèque Verhaeren 26 rue Paul Cézanne
SUMMARY:Heure du conte (à partir de 3 ans)
DESCRIPTION:Mercredi 12 mars de 14h30 à 15h30 et de 16h à 17hBibliothèqu
 e Verhaeren &#8211; 26 rue Paul Cézanne\nhttps://www.ville-coudekerque-bra
 nche.fr/events/heure-du-conte-a-partir-de-3-ans-32/
URL:https://www.ville-coudekerque-branche.fr/events/heure-du-conte-a-partir-de-3-ans-32/
END:VEVENT
END:VCALENDAR