BEGIN:VCALENDAR
VERSION:2.0
PRODID:-//eventon.com NONSGML v1.0//EN
CALSCALE:GREGORIAN
METHOD:PUBLISH
BEGIN:VEVENT
UID:69e5fe00169f0
DTSTAMP:20260420T102048Z
DTSTART:20250307T200000Z
DTEND:20250307T235900Z
LOCATION:Espace Jean Vilar
SUMMARY:Kiekeun Feestival
DESCRIPTION:Le vendredi 7 mars\,  l&rsquo;asso carnavalesque nous promet un
 e belle ambiance entre bal et concerts de musique sous le signe de la phila
 nthropie. Avec la présence de Mon P&rsquo;tit Bizness\,  Les Zharengueurs\
 ,  Veuleubuz&rsquo;\,  Les Revolvers Mahoué\,  Les Chansonniers Dunkerquoi
 s\,  Autour du Temps… L&rsquo;ambiance promet d&rsquo;être au rendez-vou
 s. Comme chaque année\, [..]\nhttps://www.ville-coudekerque-branche.fr/eve
 nts/kiekeun-feestival/
URL:https://www.ville-coudekerque-branche.fr/events/kiekeun-feestival/
END:VEVENT
END:VCALENDAR