BEGIN:VCALENDAR
VERSION:2.0
PRODID:-//eventon.com NONSGML v1.0//EN
CALSCALE:GREGORIAN
METHOD:PUBLISH
BEGIN:VEVENT
UID:69e9ef4e1ebb3
DTSTAMP:20260423T100710Z
DTSTART:20250410T140000Z
DTEND:20250410T180000Z
LOCATION:Bibliothèque Freinet Rue Arago
SUMMARY:Séance jeux de société
DESCRIPTION:Jeudi 10 avril de 14h à 18h (accès libre)Bibliothèque Céles
 tin Freinet &#8211; rue Arago\nhttps://www.ville-coudekerque-branche.fr/eve
 nts/seance-jeux-de-societe/
URL:https://www.ville-coudekerque-branche.fr/events/seance-jeux-de-societe/
END:VEVENT
END:VCALENDAR