BEGIN:VCALENDAR
VERSION:2.0
PRODID:-//eventon.com NONSGML v1.0//EN
CALSCALE:GREGORIAN
METHOD:PUBLISH
BEGIN:VEVENT
UID:69e7aaff50efb
DTSTAMP:20260421T165111Z
DTSTART:20250406T140000Z
DTEND:20250406T180000Z
LOCATION:Espace Jean Vilar
SUMMARY:Loto par Les Halles Bardes
DESCRIPTION:Dimanche 6 avril à 14h espace jean vilar\nhttps://www.ville-co
 udekerque-branche.fr/events/loto-par-les-halles-bardes/
URL:https://www.ville-coudekerque-branche.fr/events/loto-par-les-halles-bardes/
END:VEVENT
END:VCALENDAR