BEGIN:VCALENDAR
VERSION:2.0
PRODID:-//eventon.com NONSGML v1.0//EN
CALSCALE:GREGORIAN
METHOD:PUBLISH
BEGIN:VEVENT
UID:69e5fd22eae7c
DTSTAMP:20260420T101706Z
DTSTART:20250419T190000Z
DTEND:20250419T230000Z
LOCATION:Espace Jean Vilar
SUMMARY:Loto par l'USFC
DESCRIPTION:Samedi 19 avril à 19h Espace Jean Vilar\nhttps://www.ville-cou
 dekerque-branche.fr/events/loto-par-lusfc/
URL:https://www.ville-coudekerque-branche.fr/events/loto-par-lusfc/
END:VEVENT
END:VCALENDAR