BEGIN:VCALENDAR
VERSION:2.0
PRODID:-//eventon.com NONSGML v1.0//EN
CALSCALE:GREGORIAN
METHOD:PUBLISH
BEGIN:VEVENT
UID:69e613214cca4
DTSTAMP:20260420T115057Z
DTSTART:20250510T160000Z
DTEND:20250510T180000Z
LOCATION:Hôtel de ville
SUMMARY:Conférence d'Olivier Vermesch sur la Libération de Coudekerque
DESCRIPTION:le 10 mai à 16h à l&rsquo;hôtel de ville\nhttps://www.ville-
 coudekerque-branche.fr/events/conference-dolivier-vermesch-sur-la-liberatio
 n-de-coudekerque/
URL:https://www.ville-coudekerque-branche.fr/events/conference-dolivier-vermesch-sur-la-liberation-de-coudekerque/
END:VEVENT
END:VCALENDAR