BEGIN:VCALENDAR
VERSION:2.0
PRODID:-//eventon.com NONSGML v1.0//EN
CALSCALE:GREGORIAN
METHOD:PUBLISH
BEGIN:VEVENT
UID:69e61ea5cdfa5
DTSTAMP:20260420T124005Z
DTSTART:20250627
DTEND:20250628
LOCATION:Place de la Convention Rue Jean Bart
SUMMARY:Prenez un café avec votre Maire
DESCRIPTION:vendredi 27 juin 2025 lors du marché Place de la Convention\nh
 ttps://www.ville-coudekerque-branche.fr/events/prenez-un-cafe-avec-votre-ma
 ire/
URL:https://www.ville-coudekerque-branche.fr/events/prenez-un-cafe-avec-votre-maire/
END:VEVENT
END:VCALENDAR