BEGIN:VCALENDAR
VERSION:2.0
PRODID:-//eventon.com NONSGML v1.0//EN
CALSCALE:GREGORIAN
METHOD:PUBLISH
BEGIN:VEVENT
UID:69e7306ec6e66
DTSTAMP:20260421T080814Z
DTSTART:20250705T200000Z
DTEND:20250705T220000Z
LOCATION:Espace du Maître de poste 48 Rue Béranger
SUMMARY:Sacrée Fiesta ! par l’Harmonie municipale
DESCRIPTION:Samedi 5 juillet à 20h &#8211; Espace du Maître de Poste Simo
 n Fache a composé pour Fiesta\,  7ème édition de Lille3000\,  un répert
 oire pour orchestre d’harmonie. Intitulée Sacrée Fiesta\,  cette oeuvre
  en deux volets fait entendre une pièce de concert écrite comme une balad
 e nocturne\,  où la fête est représentée[..]\nhttps://www.ville-coudeke
 rque-branche.fr/events/sacree-fiesta-par-lharmonie-municipale/
URL:https://www.ville-coudekerque-branche.fr/events/sacree-fiesta-par-lharmonie-municipale/
END:VEVENT
END:VCALENDAR