BEGIN:VCALENDAR
VERSION:2.0
PRODID:-//eventon.com NONSGML v1.0//EN
CALSCALE:GREGORIAN
METHOD:PUBLISH
BEGIN:VEVENT
UID:69e733c5d13c4
DTSTAMP:20260421T082229Z
DTSTART:20250710
DTEND:20250711
LOCATION:Place André Delattre Place André Delattre
SUMMARY:Cirque Zavatta
DESCRIPTION:Du 10 au 20 juilletPlace André DelattreDu 10 au 19 juillet : r
 eprésentation à 18h\,  dimanche 20 juillet : à 19h\,  pas de représenta
 tion le 14 juillet\nhttps://www.ville-coudekerque-branche.fr/events/cirque-
 zavatta/
URL:https://www.ville-coudekerque-branche.fr/events/cirque-zavatta/
END:VEVENT
END:VCALENDAR