BEGIN:VCALENDAR
VERSION:2.0
PRODID:-//eventon.com NONSGML v1.0//EN
CALSCALE:GREGORIAN
METHOD:PUBLISH
BEGIN:VEVENT
UID:69e611399f4a1
DTSTAMP:20260420T114249Z
DTSTART:20250713T060000Z
DTEND:20250713T180000Z
LOCATION:
SUMMARY:Brocante du centre-ville
DESCRIPTION:Dimanche 13 juillet de 6h à 18hZac du Tennis\nhttps://www.vill
 e-coudekerque-branche.fr/events/brocante-du-centre-ville/
URL:https://www.ville-coudekerque-branche.fr/events/brocante-du-centre-ville/
END:VEVENT
END:VCALENDAR