BEGIN:VCALENDAR
VERSION:2.0
PRODID:-//eventon.com NONSGML v1.0//EN
CALSCALE:GREGORIAN
METHOD:PUBLISH
BEGIN:VEVENT
UID:69e5e7ffd2270
DTSTAMP:20260420T084655Z
DTSTART:20250920T190000Z
DTEND:20250920T220000Z
LOCATION:
SUMMARY:Soirée repas spectacle
DESCRIPTION:Samedi 20 septembre 2025 à 19hMenu adulte 25 € &#8211; enfan
 t 15 € Renseignements :Aurélien Baert 07 83 18 19 22\nhttps://www.ville-
 coudekerque-branche.fr/events/soiree-repas-spectacle/
URL:https://www.ville-coudekerque-branche.fr/events/soiree-repas-spectacle/
END:VEVENT
END:VCALENDAR