BEGIN:VCALENDAR
VERSION:2.0
PRODID:-//eventon.com NONSGML v1.0//EN
CALSCALE:GREGORIAN
METHOD:PUBLISH
BEGIN:VEVENT
UID:69e61330453d8
DTSTAMP:20260420T115112Z
DTSTART:20251120T170000Z
DTEND:20251120T180000Z
LOCATION:Mairie de Quartier Cézanne 26 rue Cézanne
SUMMARY:Permanence de Laurent Vanrechem
DESCRIPTION:GRAND-STEENDAMPermanence de Laurent VanrechemJeudi 20 novembre 
 2025 de 17h à 18hMairie de quartier Cézanne\nhttps://www.ville-coudekerqu
 e-branche.fr/events/permanence-de-laurent-vanrechem-32/
URL:https://www.ville-coudekerque-branche.fr/events/permanence-de-laurent-vanrechem-32/
END:VEVENT
END:VCALENDAR