BEGIN:VCALENDAR
VERSION:2.0
PRODID:-//eventon.com NONSGML v1.0//EN
CALSCALE:GREGORIAN
METHOD:PUBLISH
BEGIN:VEVENT
UID:69e88e05e3aa0
DTSTAMP:20260422T085949Z
DTSTART:20251126
DTEND:20251127
LOCATION:Espace Jean Vilar
SUMMARY:Journée des Solidarités
DESCRIPTION:La Ville vous donne rendez-vous le mercredi 26 novembre 2025\, 
  à l&rsquo;espace Jean Vilar\,  pour une nouvelle édition de la Journée 
 des Solidarités\,  un événement placé sous le signe du partage\,  de la
  rencontre et de l’entraide. Cette année\,  tous les dons collectés ser
 ont reversés à l’association La Petite Pierre.[..]\nhttps://www.ville-c
 oudekerque-branche.fr/events/journee-des-solidarites/
URL:https://www.ville-coudekerque-branche.fr/events/journee-des-solidarites/
END:VEVENT
END:VCALENDAR