BEGIN:VCALENDAR
VERSION:2.0
PRODID:-//eventon.com NONSGML v1.0//EN
CALSCALE:GREGORIAN
METHOD:PUBLISH
BEGIN:VEVENT
UID:69e889ecbc54f
DTSTAMP:20260422T084220Z
DTSTART:20251103
DTEND:20251104
LOCATION:Espace Jean Vilar
SUMMARY:Don du sang
DESCRIPTION:Pour donner votre sang\,  rendez-vous :lundi 3 novembre 2025 de
  9h à 12h30 et de 14h30 à 18h30Espace Jean Vilar\nhttps://www.ville-coude
 kerque-branche.fr/events/don-du-sang-13/
URL:https://www.ville-coudekerque-branche.fr/events/don-du-sang-13/
END:VEVENT
END:VCALENDAR