BEGIN:VCALENDAR
VERSION:2.0
PRODID:-//eventon.com NONSGML v1.0//EN
CALSCALE:GREGORIAN
METHOD:PUBLISH
BEGIN:VEVENT
UID:69e5fc045ebb4
DTSTAMP:20260420T101220Z
DTSTART:20251116T160000Z
DTEND:20251116T180000Z
LOCATION:Espace Jean Vilar
SUMMARY:Concert d'automne
DESCRIPTION:Par l&rsquo;ensemble vocal allégro le 16 novembre 2025 &#8211;
  16h espace Jean Vilar\nhttps://www.ville-coudekerque-branche.fr/events/con
 cert-dautomne-2/
URL:https://www.ville-coudekerque-branche.fr/events/concert-dautomne-2/
END:VEVENT
END:VCALENDAR