BEGIN:VCALENDAR
VERSION:2.0
PRODID:-//eventon.com NONSGML v1.0//EN
CALSCALE:GREGORIAN
METHOD:PUBLISH
BEGIN:VEVENT
UID:69e5e831ad9bf
DTSTAMP:20260420T084745Z
DTSTART:20251217T170000Z
DTEND:20251217T190000Z
LOCATION:Maison de quartier du Vieux Coudekerque Rue Gustave Fontaine
SUMMARY:Permanence de Michaël Hennebelle
DESCRIPTION:VIEUX-COUDEKERQUEPermanence de Michaël HennebelleMercredi 17 d
 écembre 2025 de 17h à 19hMaison de quartier du Vieux-Coudekerque\nhttps:/
 /www.ville-coudekerque-branche.fr/events/permanence-de-michael-hennebelle-3
 1/
URL:https://www.ville-coudekerque-branche.fr/events/permanence-de-michael-hennebelle-31/
END:VEVENT
END:VCALENDAR