BEGIN:VCALENDAR
VERSION:2.0
PRODID:-//eventon.com NONSGML v1.0//EN
CALSCALE:GREGORIAN
METHOD:PUBLISH
BEGIN:VEVENT
UID:69e9dcf15cfc8
DTSTAMP:20260423T084849Z
DTSTART:20251206T143000Z
DTEND:20251206T160000Z
LOCATION:Bibliothèque Eva Coulier 63 rue Gustave Fontaine
SUMMARY:Animation "Martine à la bibliothèque"
DESCRIPTION:(pour les 8 à 10 ans)Samedi 6 décembre de 14h30 à 16hBibliot
 hèque Eva Coulier &#8211; 63 rue Gustave FontaineRenseignement au 03 28 24
  36 98\nhttps://www.ville-coudekerque-branche.fr/events/animation-martine-a
 -la-bibliotheque/
URL:https://www.ville-coudekerque-branche.fr/events/animation-martine-a-la-bibliotheque/
END:VEVENT
END:VCALENDAR