BEGIN:VCALENDAR
VERSION:2.0
PRODID:-//eventon.com NONSGML v1.0//EN
CALSCALE:GREGORIAN
METHOD:PUBLISH
BEGIN:VEVENT
UID:69e5fdeb94315
DTSTAMP:20260420T102027Z
DTSTART:20251206T130000Z
DTEND:20251206T180000Z
LOCATION:Foyer Raimu 50 Rue Jacquard
SUMMARY:Initiation aux premiers secours enfants et nourrissons
DESCRIPTION:Samedi 6 décembre de 13h à 18hFoyer Raimu\nhttps://www.ville-
 coudekerque-branche.fr/events/initiation-aux-premiers-secours-enfants-et-no
 urrissons-2/
URL:https://www.ville-coudekerque-branche.fr/events/initiation-aux-premiers-secours-enfants-et-nourrissons-2/
END:VEVENT
END:VCALENDAR