BEGIN:VCALENDAR
VERSION:2.0
PRODID:-//eventon.com NONSGML v1.0//EN
CALSCALE:GREGORIAN
METHOD:PUBLISH
BEGIN:VEVENT
UID:69e612da0114a
DTSTAMP:20260420T114946Z
DTSTART:20251209
DTEND:20251210
LOCATION:Centre social Josette Bulté Rue du Général Hoche
SUMMARY:Distribution Coud’entraide
DESCRIPTION:Vente de jouets et de vêtements d’occasion Pour ajouter des 
 étincelles de solidarité dans la magie de Noël ! 9 décembre 2025 – 15
 h à 17h 12 décembre 2025 – 10h à 17h au marché de Noël du Centre soc
 ial Entrée libre\nhttps://www.ville-coudekerque-branche.fr/events/distribu
 tion-coudentraide/
URL:https://www.ville-coudekerque-branche.fr/events/distribution-coudentraide/
END:VEVENT
END:VCALENDAR