BEGIN:VCALENDAR
VERSION:2.0
PRODID:-//eventon.com NONSGML v1.0//EN
CALSCALE:GREGORIAN
METHOD:PUBLISH
BEGIN:VEVENT
UID:69e9da1a10403
DTSTAMP:20260423T083642Z
DTSTART:20260318
DTEND:20260319
LOCATION:Bibliothèque Verhaeren 26 rue Paul Cézanne
SUMMARY:Heures du conte
DESCRIPTION:(à partir de 3 ans)Mercredi 18 mars de 14h30 à 15h30 et de 16
 h à 17hBibliothèque Verhaeren &#8211; 26 rue Paul Cézanne\nhttps://www.v
 ille-coudekerque-branche.fr/events/heures-du-conte-2/
URL:https://www.ville-coudekerque-branche.fr/events/heures-du-conte-2/
END:VEVENT
END:VCALENDAR